BEGIN:VCALENDAR
VERSION:2.0
PRODID:-//wp-events-plugin.com//7.2.3.1//EN
BEGIN:VEVENT
UID:6@magicibiza.nl
DTSTART;TZID=Europe/Amsterdam:20240301T180000
DTEND;TZID=Europe/Amsterdam:20240301T180000
DTSTAMP:20240401T201900Z
URL:https://magicibiza.nl/events/reopening/
SUMMARY:REOPENING
DESCRIPTION:World Family Ibiza
ATTACH;FMTTYPE=image/jpeg:https://magicibiza.nl/wp-content/uploads/2024/04
 /6TH.jpeg
END:VEVENT
BEGIN:VEVENT
UID:12@magicibiza.nl
DTSTART;TZID=Europe/Amsterdam;VALUE=DATE:20240308
DTEND;TZID=Europe/Amsterdam;VALUE=DATE:20240309
DTSTAMP:20240401T213233Z
URL:https://magicibiza.nl/events/rio-ibiza/
SUMMARY:RIO IBIZA
DESCRIPTION:
ATTACH;FMTTYPE=image/jpeg:https://magicibiza.nl/wp-content/uploads/2024/04
 /11VEN.jpeg
END:VEVENT
BEGIN:VEVENT
UID:5@magicibiza.nl
DTSTART;TZID=Europe/Amsterdam;VALUE=DATE:20240322
DTEND;TZID=Europe/Amsterdam;VALUE=DATE:20240323
DTSTAMP:20240401T201623Z
URL:https://magicibiza.nl/events/opening-cala-bassa-beach-club/
SUMMARY:Opening -- CALA BASSA bEACH CLUB
DESCRIPTION:
ATTACH;FMTTYPE=image/jpeg:https://magicibiza.nl/wp-content/uploads/2024/04
 /5ht.jpeg
END:VEVENT
BEGIN:VEVENT
UID:13@magicibiza.nl
DTSTART;TZID=Europe/Amsterdam;VALUE=DATE:20240322
DTEND;TZID=Europe/Amsterdam;VALUE=DATE:20240323
DTSTAMP:20240401T213519Z
URL:https://magicibiza.nl/events/cala-bassa-beach-club/
SUMMARY:CALA BASSA bEACH CLUB
DESCRIPTION:
ATTACH;FMTTYPE=image/jpeg:https://magicibiza.nl/wp-content/uploads/2024/04
 /5ht.jpeg
END:VEVENT
BEGIN:VEVENT
UID:10@magicibiza.nl
DTSTART;TZID=Europe/Amsterdam:20240323T000000
DTEND;TZID=Europe/Amsterdam:20240323T000000
DTSTAMP:20240401T212703Z
URL:https://magicibiza.nl/events/nassau-beach-club-ibiza/
SUMMARY:NASSAU BEACH CLUB IBIZA
DESCRIPTION:
ATTACH;FMTTYPE=image/jpeg:https://magicibiza.nl/wp-content/uploads/2024/04
 /10TH.jpeg
END:VEVENT
BEGIN:VEVENT
UID:9@magicibiza.nl
DTSTART;TZID=Europe/Amsterdam:20240328T000000
DTEND;TZID=Europe/Amsterdam:20240328T000000
DTSTAMP:20240401T203307Z
URL:https://magicibiza.nl/events/coco-beach-ibiza/
SUMMARY:COCO BEACH IBIZA
DESCRIPTION:
ATTACH;FMTTYPE=image/jpeg:https://magicibiza.nl/wp-content/uploads/2024/04
 /9th.jpeg
END:VEVENT
BEGIN:VEVENT
UID:11@magicibiza.nl
DTSTART;TZID=Europe/Amsterdam:20240425T000000
DTEND;TZID=Europe/Amsterdam:20240425T000000
DTSTAMP:20240401T213044Z
URL:https://magicibiza.nl/events/nikki-beach-ibiza/
SUMMARY:NIKKI BEACH IBIZA
DESCRIPTION:SEASON OPEN
ATTACH;FMTTYPE=image/jpeg:https://magicibiza.nl/wp-content/uploads/2024/04
 /11EVN.jpeg
END:VEVENT
BEGIN:VEVENT
UID:1@magicibiza.nl
DTSTART;TZID=Europe/Amsterdam;VALUE=DATE:20240511
DTEND;TZID=Europe/Amsterdam;VALUE=DATE:20240512
DTSTAMP:20240401T200231Z
URL:https://magicibiza.nl/events/amnesia-opening-party/
SUMMARY:Amnesia Opening Party
DESCRIPTION:
ATTACH;FMTTYPE=image/jpeg:https://magicibiza.nl/wp-content/uploads/2024/04
 /Event-1st.jpeg
END:VEVENT
BEGIN:VEVENT
UID:2@magicibiza.nl
DTSTART;TZID=Europe/Amsterdam;VALUE=DATE:20240602
DTEND;TZID=Europe/Amsterdam;VALUE=DATE:20240603
DTSTAMP:20240401T201003Z
URL:https://magicibiza.nl/events/opening-fiesta/
SUMMARY:Opening Fiesta
DESCRIPTION:
ATTACH;FMTTYPE=image/jpeg:https://magicibiza.nl/wp-content/uploads/2024/04
 /Event-2nd.jpeg
END:VEVENT
BEGIN:VEVENT
UID:4@magicibiza.nl
DTSTART;TZID=Europe/Amsterdam:20240603T000000
DTEND;TZID=Europe/Amsterdam:20241007T000000
DTSTAMP:20240401T201424Z
URL:https://magicibiza.nl/events/fme-i-am-famous/
SUMMARY:F***ME I AM FAMOUS !
DESCRIPTION:DAVID GUETTA
ATTACH;FMTTYPE=image/jpeg:https://magicibiza.nl/wp-content/uploads/2024/04
 /Event-4ht.jpeg
END:VEVENT
BEGIN:VEVENT
UID:3@magicibiza.nl
DTSTART;TZID=Europe/Amsterdam;VALUE=DATE:20240803
DTEND;TZID=Europe/Amsterdam;VALUE=DATE:20240804
DTSTAMP:20240401T201008Z
URL:https://magicibiza.nl/events/marvent-ibiza-opening-season/
SUMMARY:Marvent Ibiza - Opening Season
DESCRIPTION:
ATTACH;FMTTYPE=image/jpeg:https://magicibiza.nl/wp-content/uploads/2024/04
 /Event-3rd.jpeg
END:VEVENT
BEGIN:VEVENT
UID:7@magicibiza.nl
DTSTART;TZID=Europe/Amsterdam;VALUE=DATE:20240901
DTEND;TZID=Europe/Amsterdam;VALUE=DATE:20240930
DTSTAMP:20240401T202548Z
URL:https://magicibiza.nl/events/armin-van-buuren/
SUMMARY:ARMIN VAN BUUREN
DESCRIPTION:5 Sundays at Ushuaia Ibiza
ATTACH;FMTTYPE=image/jpeg:https://magicibiza.nl/wp-content/uploads/2024/04
 /7th.jpeg
END:VEVENT
BEGIN:VEVENT
UID:8@magicibiza.nl
DTSTART;TZID=Europe/Amsterdam;VALUE=DATE:20240914
DTEND;TZID=Europe/Amsterdam;VALUE=DATE:20240915
DTSTAMP:20240401T203106Z
URL:https://magicibiza.nl/events/sparkling-ibiza/
SUMMARY:SPARKLING IBIZA
DESCRIPTION:
ATTACH;FMTTYPE=image/jpeg:https://magicibiza.nl/wp-content/uploads/2024/04
 /8TH.jpeg
END:VEVENT
BEGIN:VTIMEZONE
TZID:Europe/Amsterdam
X-LIC-LOCATION:Europe/Amsterdam
BEGIN:STANDARD
DTSTART:20231029T020000
TZOFFSETFROM:+0200
TZOFFSETTO:+0100
TZNAME:CET
END:STANDARD
BEGIN:DAYLIGHT
DTSTART:20240331T030000
TZOFFSETFROM:+0100
TZOFFSETTO:+0200
TZNAME:CEST
END:DAYLIGHT
END:VTIMEZONE
END:VCALENDAR